BEGIN:VCALENDAR
VERSION:2.0
PRODID:-//158.64.116.130//NONSGML kigkonsult.se iCalcreator 2.26.9//
CALSCALE:GREGORIAN
METHOD:PUBLISH
X-WR-CALNAME:Lycée Aline Mayrisch
X-WR-CALDESC:
X-FROM-URL:http://www.laml.lu
X-WR-TIMEZONE:Europe/Luxembourg
BEGIN:VTIMEZONE
TZID:Europe/Luxembourg
X-LIC-LOCATION:Europe/Luxembourg
BEGIN:STANDARD
DTSTART:20201025T030000
TZOFFSETFROM:+0200
TZOFFSETTO:+0100
RDATE:20211031T030000
TZNAME:CET
END:STANDARD
BEGIN:DAYLIGHT
DTSTART:20210328T020000
TZOFFSETFROM:+0100
TZOFFSETTO:+0200
RDATE:20220327T020000
TZNAME:CEST
END:DAYLIGHT
END:VTIMEZONE
BEGIN:VEVENT
UID:ai1ec-229732@www.laml.lu
DTSTAMP:20210423T005931Z
CATEGORIES:
CONTACT:
DESCRIPTION:La Direction du Lycée Aline Mayrisch et les professeurs du dépa
 rtement d’éducation artistique ont l’honneur de vous inviter le samedi 14 
 décembre 2019 à 17 heures au vernissage « Alin&Art 2019 » exposition où se
 ront présentées les productions que les élèves du lycée auront créées lors
  de 3 jours de workshops exceptionnels avec 7 artistes de renom internatio
 nal:\nPeggy DIHÉ – Linogravure et peinture (France)\, Mrs FROLLEIN – (WEB)
 Comics (Allemagne/Luxembourg)\, Guillaumit – Masques et réalité augmentée 
 (France)\, Chiara DAHLEM – Mixed Media (Luxembourg)\, Claire PROUVOST – De
 sign graphique (Irlande/France)\, Marianna MADRIZ – Illustration (Angleter
 re/Espagne)\, Michel WELFRINGER – Typographie (Luxembourg).\n« Alin&Art » 
 fait partie des d’événements LAML consacrés aux arts visuels et plastiques
 \, à l’éducation artistique – bref: à la création au sein du Lycée Aline M
 ayrisch.
DTSTART;TZID=Europe/Luxembourg:20191214T170000
DTEND;TZID=Europe/Luxembourg:20191214T190000
SEQUENCE:0
SUMMARY:Vernissage  « Alin&Art 2019 »
X-COST-TYPE:free
X-ALT-DESC;FMTTYPE=text/html:<!DOCTYPE HTML PUBLIC '-//W3C//DTD HTML 3.2//E
 N'>\\n<HTML>\\n<HEAD>\\n<TITLE></TITLE>\\n</HEAD>\\n<BODY><p>La Direction 
 du Lycée Aline Mayrisch et les professeurs du département d’éducation arti
 stique ont l’honneur de vous inviter le samedi 14 décembre 2019 à 17 heure
 s au vernissage <strong>« Alin&Art 2019 » </strong>exposition où seront pr
 ésentées les productions que les élèves du lycée auront créées lors de 3 j
 ours de workshops exceptionnels avec 7 artistes de renom international:</p
 >\n<p><strong>Peggy DIHÉ</strong> – Linogravure et peinture (France)\, <st
 rong>Mrs FROLLEIN</strong> – (WEB)Comics (Allemagne/Luxembourg)\, <strong>
 Guillaumit</strong> – Masques et réalité augmentée (France)\, <strong>Chia
 ra DAHLEM</strong> – Mixed Media (Luxembourg)\, <strong>Claire PROUVOST</s
 trong> – Design graphique (Irlande/France)\, <strong>Marianna MADRIZ</stro
 ng> – Illustration (Angleterre/Espagne)\, <strong>Michel WELFRINGER</stron
 g> – Typographie (Luxembourg).</p>\n<p>« Alin&Art » fait partie des d’évén
 ements LAML consacrés aux arts visuels et plastiques\, à l’éducation artis
 tique – bref: à la création au sein du Lycée Aline Mayrisch.</p>\n</BODY><
 /HTML>
END:VEVENT
END:VCALENDAR
