BEGIN:VCALENDAR
VERSION:2.0
PRODID:-//158.64.116.130//NONSGML kigkonsult.se iCalcreator 2.26.9//
CALSCALE:GREGORIAN
METHOD:PUBLISH
X-WR-CALNAME:Lycée Aline Mayrisch
X-WR-CALDESC:
X-FROM-URL:http://www.laml.lu
X-WR-TIMEZONE:Europe/Luxembourg
BEGIN:VTIMEZONE
TZID:Europe/Luxembourg
X-LIC-LOCATION:Europe/Luxembourg
BEGIN:STANDARD
DTSTART:20201025T030000
TZOFFSETFROM:+0200
TZOFFSETTO:+0100
RDATE:20211031T030000
TZNAME:CET
END:STANDARD
BEGIN:DAYLIGHT
DTSTART:20210328T020000
TZOFFSETFROM:+0100
TZOFFSETTO:+0200
RDATE:20220327T020000
TZNAME:CEST
END:DAYLIGHT
END:VTIMEZONE
BEGIN:VEVENT
UID:ai1ec-225508@www.laml.lu
DTSTAMP:20210422T204759Z
CATEGORIES:
CONTACT:
DESCRIPTION:
DTSTART;TZID=Europe/Luxembourg:20181005T130000
DTEND;TZID=Europe/Luxembourg:20181005T150000
LOCATION:Forum Geesseknäppchen
SEQUENCE:0
SUMMARY:Table ronde dans le cadre des élections législatives
X-COST-TYPE:free
END:VEVENT
END:VCALENDAR
