BEGIN:VCALENDAR
VERSION:2.0
PRODID:-//158.64.116.130//NONSGML kigkonsult.se iCalcreator 2.26.9//
CALSCALE:GREGORIAN
METHOD:PUBLISH
X-WR-CALNAME:Lycée Aline Mayrisch
X-WR-CALDESC:
X-FROM-URL:http://www.laml.lu
X-WR-TIMEZONE:Europe/Luxembourg
BEGIN:VTIMEZONE
TZID:Europe/Luxembourg
X-LIC-LOCATION:Europe/Luxembourg
BEGIN:STANDARD
DTSTART:20201025T030000
TZOFFSETFROM:+0200
TZOFFSETTO:+0100
RDATE:20211031T030000
TZNAME:CET
END:STANDARD
BEGIN:DAYLIGHT
DTSTART:20210328T020000
TZOFFSETFROM:+0100
TZOFFSETTO:+0200
RDATE:20220327T020000
TZNAME:CEST
END:DAYLIGHT
END:VTIMEZONE
BEGIN:VEVENT
UID:ai1ec-225506@www.laml.lu
DTSTAMP:20210422T204721Z
CATEGORIES:
CONTACT:
DESCRIPTION:
DTSTART;VALUE=DATE:20180929
DTEND;VALUE=DATE:20180930
SEQUENCE:0
SUMMARY:Course solidaire contre le cancer de l’enfant “Aline goes gold”
X-COST-TYPE:free
END:VEVENT
END:VCALENDAR
