BEGIN:VCALENDAR
VERSION:2.0
PRODID:-//158.64.116.130//NONSGML kigkonsult.se iCalcreator 2.26.9//
CALSCALE:GREGORIAN
METHOD:PUBLISH
X-WR-CALNAME:Lycée Aline Mayrisch
X-WR-CALDESC:
X-FROM-URL:http://www.laml.lu
X-WR-TIMEZONE:Europe/Luxembourg
BEGIN:VTIMEZONE
TZID:Europe/Luxembourg
X-LIC-LOCATION:Europe/Luxembourg
BEGIN:STANDARD
DTSTART:20201025T030000
TZOFFSETFROM:+0200
TZOFFSETTO:+0100
RDATE:20211031T030000
TZNAME:CET
END:STANDARD
BEGIN:DAYLIGHT
DTSTART:20210328T020000
TZOFFSETFROM:+0100
TZOFFSETTO:+0200
RDATE:20220327T020000
TZNAME:CEST
END:DAYLIGHT
END:VTIMEZONE
BEGIN:VEVENT
UID:ai1ec-225503@www.laml.lu
DTSTAMP:20210422T204628Z
CATEGORIES:
CONTACT:
DESCRIPTION:<p>La rentrée est fixée au <strong>mercredi 19 septembre 2018 à
  08h05</strong>.<br />\nLes classes seront affichées au préau du lycée. Le
 s élèves se rendront dans leur salle de classe où ils seront accueillis pa
 r les régents ou les membres de la cellule de coordination.<br />\nL’horai
 re normal entre en vigueur à partir du 19 septembre 2018 à 11h00.</p>
DTSTART;VALUE=DATE:20180919
DTEND;VALUE=DATE:20180920
SEQUENCE:0
SUMMARY:Rentrée scolaire pour toutes les classes
X-COST-TYPE:free
END:VEVENT
END:VCALENDAR
