BEGIN:VCALENDAR
VERSION:2.0
PRODID:-//158.64.116.130//NONSGML kigkonsult.se iCalcreator 2.26.9//
CALSCALE:GREGORIAN
METHOD:PUBLISH
X-WR-CALNAME:Lycée Aline Mayrisch
X-WR-CALDESC:
X-FROM-URL:http://www.laml.lu
X-WR-TIMEZONE:Europe/Luxembourg
BEGIN:VTIMEZONE
TZID:Europe/Luxembourg
X-LIC-LOCATION:Europe/Luxembourg
BEGIN:STANDARD
DTSTART:20201025T030000
TZOFFSETFROM:+0200
TZOFFSETTO:+0100
RDATE:20211031T030000
TZNAME:CET
END:STANDARD
BEGIN:DAYLIGHT
DTSTART:20210328T020000
TZOFFSETFROM:+0100
TZOFFSETTO:+0200
RDATE:20220327T020000
TZNAME:CEST
END:DAYLIGHT
END:VTIMEZONE
BEGIN:VEVENT
UID:ai1ec-225502@www.laml.lu
DTSTAMP:20210422T204613Z
CATEGORIES:
CONTACT:
DESCRIPTION:Le rendez-vous des élèves et de leurs parents est fixé au mardi
  17 septembre 2019 à 08h00 à la grande salle du Forum.\nL’accueil des élèv
 es se poursuivra en salle de classe avec les corégents\, alors que les nou
 veaux parents d’élèves seront invités par la Direction et le Comité des Pa
 rents à un café-croissant pour un premier contact dans un cadre convivial 
 jusqu’à 09h50.\nVers 12h00\, les corégents prendront le repas avec leurs é
 lèves à la cantine du Forum.\nLe premier jour de la rentrée\, les bus n’as
 sureront que les transports vers le centre-ville.
DTSTART;TZID=Europe/Luxembourg:20180918T080000
DTEND;TZID=Europe/Luxembourg:20180918T124000
LOCATION:Forum Geesseknäppchen
SEQUENCE:0
SUMMARY:Accueil des élèves de 7e
X-COST-TYPE:free
X-ALT-DESC;FMTTYPE=text/html:<!DOCTYPE HTML PUBLIC '-//W3C//DTD HTML 3.2//E
 N'>\\n<HTML>\\n<HEAD>\\n<TITLE></TITLE>\\n</HEAD>\\n<BODY><p>Le rendez-vou
 s des élèves et de leurs parents est fixé au <strong>mardi 17 septembre 20
 19 à 08h00</strong> à la grande salle du Forum.<br />\nL’accueil des élève
 s se poursuivra en salle de classe avec les corégents\, alors que les nouv
 eaux parents d’élèves seront invités par la Direction et le Comité des Par
 ents à un café-croissant pour un premier contact dans un cadre convivial j
 usqu’à 09h50.<br />\nVers 12h00\, les corégents prendront le repas avec le
 urs élèves à la cantine du Forum.<br />\nLe premier jour de la rentrée\, l
 es bus n’assureront que les transports vers le centre-ville.</p>\n</BODY><
 /HTML>
END:VEVENT
END:VCALENDAR
