BEGIN:VCALENDAR
VERSION:2.0
PRODID:-//158.64.116.130//NONSGML kigkonsult.se iCalcreator 2.26.9//
CALSCALE:GREGORIAN
METHOD:PUBLISH
X-WR-CALNAME:Lycée Aline Mayrisch
X-WR-CALDESC:
X-FROM-URL:http://www.laml.lu
X-WR-TIMEZONE:Europe/Luxembourg
BEGIN:VTIMEZONE
TZID:Europe/Luxembourg
X-LIC-LOCATION:Europe/Luxembourg
BEGIN:STANDARD
DTSTART:20201025T030000
TZOFFSETFROM:+0200
TZOFFSETTO:+0100
RDATE:20211031T030000
TZNAME:CET
END:STANDARD
BEGIN:DAYLIGHT
DTSTART:20210328T020000
TZOFFSETFROM:+0100
TZOFFSETTO:+0200
RDATE:20220327T020000
TZNAME:CEST
END:DAYLIGHT
END:VTIMEZONE
BEGIN:VEVENT
UID:7e103413fae8a07ad9abb8d9b0a6a39b
DTSTAMP:20210422T204555Z
CATEGORIES:
CONTACT:
DESCRIPTION:
DTSTART;TZID=Europe/Luxembourg:20180706T150000
DTEND;TZID=Europe/Luxembourg:20180706T160000
LOCATION:Place d’Armes
SEQUENCE:0
SUMMARY:Concert de fin d’année
END:VEVENT
END:VCALENDAR
